BEGIN:VCALENDAR
VERSION:2.0
PRODID:-//Niên Giám Người Việt - PageVina - ECPv6.2.9//NONSGML v1.0//EN
CALSCALE:GREGORIAN
METHOD:PUBLISH
X-WR-CALNAME:Niên Giám Người Việt - PageVina
X-ORIGINAL-URL:https://pagevina.com
X-WR-CALDESC:Events for Niên Giám Người Việt - PageVina
REFRESH-INTERVAL;VALUE=DURATION:PT1H
X-Robots-Tag:noindex
X-PUBLISHED-TTL:PT1H
BEGIN:VTIMEZONE
TZID:America/Toronto
BEGIN:DAYLIGHT
TZOFFSETFROM:-0500
TZOFFSETTO:-0400
TZNAME:EDT
DTSTART:20240310T070000
END:DAYLIGHT
BEGIN:STANDARD
TZOFFSETFROM:-0400
TZOFFSETTO:-0500
TZNAME:EST
DTSTART:20241103T060000
END:STANDARD
BEGIN:DAYLIGHT
TZOFFSETFROM:-0500
TZOFFSETTO:-0400
TZNAME:EDT
DTSTART:20250309T070000
END:DAYLIGHT
BEGIN:STANDARD
TZOFFSETFROM:-0400
TZOFFSETTO:-0500
TZNAME:EST
DTSTART:20251102T060000
END:STANDARD
BEGIN:DAYLIGHT
TZOFFSETFROM:-0500
TZOFFSETTO:-0400
TZNAME:EDT
DTSTART:20260308T070000
END:DAYLIGHT
BEGIN:STANDARD
TZOFFSETFROM:-0400
TZOFFSETTO:-0500
TZNAME:EST
DTSTART:20261101T060000
END:STANDARD
END:VTIMEZONE
BEGIN:VEVENT
DTSTART;TZID=America/Toronto:20260207T103000
DTEND;TZID=America/Toronto:20260207T103000
DTSTAMP:20260420T095112
CREATED:20250106T044907Z
LAST-MODIFIED:20251209T194424Z
UID:11172-1770460200-1770460200@pagevina.com
SUMMARY:HỘI CHỢ TẾT 2026 – VANCOUVER
DESCRIPTION:Vào cửa miễn phí
URL:https://pagevina.com/event/hoi-cho-tet-at-ty-2025-vancouver/
LOCATION:St. Maththew Parish\, 16079\, 88 Avenue\, Surrey\, BC\, V4N1G3\, Canada
CATEGORIES:Tết Nguyên Đán,Tết Nguyên Đán - Vancouver
END:VEVENT
BEGIN:VEVENT
DTSTART;TZID=America/Toronto:20240210T110000
DTEND;TZID=America/Toronto:20240210T153000
DTSTAMP:20260420T095112
CREATED:20240122T014721Z
LAST-MODIFIED:20240122T014729Z
UID:11154-1707562800-1707579000@pagevina.com
SUMMARY:HỘI CHỢ TẾT GIÁP THÌN 2024 - VANCOUVER
DESCRIPTION:Ẩm Thực Việt Nam: Thưởng thức ẩm thực Tết truyền thống từ các food vendors hàng đầu. \nMúa Lân & Nghệ Thuật Truyền Thống: Hòa mình vào điệu múa lân sôi động và các tiết mục nghệ thuật đặc sắc. \nGiải Trí cho Trẻ Em: Kids nail arts\, red envelope picking\, và các trò chơi dân gian hấp dẫn. \nHoạt Động Gia Đình: Xin chữ đầu năm\, gói bánh chưng\, karaoke cho mọi lứa tuổi. \nĐiểm Nhấn Đặc Biệt: \n– Giải LOTO $500 cash prize! \n– Lucky Draws với tổng trị giá tới $2000. \n– Giải thưởng cho trang phục truyền thống Việt Nam đẹp nhất. \n– Thi hát nhạc Tết & nhạc Việt Nam. \n– Trao lì xì cho trẻ em. \n– Chụp ảnh Tết lưu niệm. \n  \nĐĂNG KÝ VÉ NGAY HÔM NAY!\nSố lượng vé giới hạn chỉ 200 vé\, với giá vé hoàn toàn MIỄN PHÍ. Đừng bỏ lỡ cơ hội tham gia sự kiện đặc biệt này\, hãy nhanh tay đăng ký trước khi vé được bán hết! \nGet ticket: \nhttps://allevents.in/vancouver/t%E1%BA%BEt-vancouver-2024/10000792118637167 \n  \n 
URL:https://pagevina.com/event/hoi-cho-tet-giap-thin-2024-vancouver/
LOCATION:South Hall Banquet Vancouver\, 8273 Ross St\, Vancouver\, British Columbia\, V5X 4W1\, Canada
CATEGORIES:Tết Nguyên Đán,Tết Nguyên Đán - Vancouver
END:VEVENT
END:VCALENDAR